BEGIN:VCALENDAR
VERSION:2.0
PRODID:-//ChamberMaster//Event Calendar 2.0//EN
METHOD:PUBLISH
X-PUBLISHED-TTL:P1H
REFRESH-INTERVAL:P1H
CALSCALE:GREGORIAN
BEGIN:VTIMEZONE
TZID:America/New_York
BEGIN:DAYLIGHT
RRULE:FREQ=YEARLY;BYMONTH=3;BYDAY=2SU
DTSTART:20070101T000000
TZOFFSETFROM:-0500
TZOFFSETTO:-0400
TZNAME:Eastern Daylight Time
END:DAYLIGHT
BEGIN:STANDARD
RRULE:FREQ=YEARLY;BYMONTH=11;BYDAY=1SU
DTSTART:20070101T000000
TZOFFSETFROM:-0400
TZOFFSETTO:-0500
TZNAME:Eastern Standard Time
END:STANDARD
END:VTIMEZONE
BEGIN:VEVENT
DTSTART;TZID=America/New_York:20260521T083000
DTEND;TZID=America/New_York:20260521T103000
X-MICROSOFT-CDO-ALLDAYEVENT:FALSE
SUMMARY:Florida Nonprofits By the Numbers: An Exclusive 2026 Sector Briefing for Nonprofit Leaders
DESCRIPTION:Join us for an in-person leadership briefing and discussion with the Florida Nonprofit Alliance (FNA). As part of their Statewide tour\, FNA will share with you:The latest regional and county-specific data from our updated economic impact data Key updates from the 2026 legislative sessionDetails about the upcoming Statewide Salary Survey.This is offered in partnership with the Florida Nonprofit Alliance and is free to both EBI members and non-members.
X-ALT-DESC;FMTTYPE=text/html:<!DOCTYPE html><html><head><title></title></head><body aria-disabled="false"><p>Join us for an in-person leadership briefing and discussion with the Florida Nonprofit Alliance (FNA). As part of their Statewide tour\, FNA will share with you:</p><ul fr-original-style="" style="list-style-position: inside\;"><li>The latest regional and county-specific data from our updated economic impact data&nbsp\;</li><li>Key updates from the 2026 legislative session</li><li>Details about the upcoming Statewide Salary Survey.</li></ul><p>This is offered in partnership with the Florida Nonprofit Alliance and is free to both EBI members and non-members.&nbsp\;</p></body></html>
LOCATION:Winter Park\, FL
UID:e.3795.1420584
SEQUENCE:3
DTSTAMP:20260423T194328Z
URL:https://edythbushinstituteforphilanthropynonprofitleadership.growthzoneapp.com/infosession/Details/florida-nonprofits-by-the-numbers-an-exclusive-2026-sector-briefing-for-nonprofit-leaders-1679519?sourceTypeId=Hub
END:VEVENT
END:VCALENDAR
